BEGIN:VCALENDAR
VERSION:2.0
PRODID:-//Daniela Draeger - ECPv6.15.20//NONSGML v1.0//EN
CALSCALE:GREGORIAN
METHOD:PUBLISH
X-WR-CALNAME:Daniela Draeger
X-ORIGINAL-URL:https://yoga.myboxberlin.de
X-WR-CALDESC:Veranstaltungen für Daniela Draeger
REFRESH-INTERVAL;VALUE=DURATION:PT1H
X-Robots-Tag:noindex
X-PUBLISHED-TTL:PT1H
BEGIN:VTIMEZONE
TZID:Europe/Berlin
BEGIN:DAYLIGHT
TZOFFSETFROM:+0100
TZOFFSETTO:+0200
TZNAME:CEST
DTSTART:20250330T010000
END:DAYLIGHT
BEGIN:STANDARD
TZOFFSETFROM:+0200
TZOFFSETTO:+0100
TZNAME:CET
DTSTART:20251026T010000
END:STANDARD
BEGIN:DAYLIGHT
TZOFFSETFROM:+0100
TZOFFSETTO:+0200
TZNAME:CEST
DTSTART:20260329T010000
END:DAYLIGHT
BEGIN:STANDARD
TZOFFSETFROM:+0200
TZOFFSETTO:+0100
TZNAME:CET
DTSTART:20261025T010000
END:STANDARD
BEGIN:DAYLIGHT
TZOFFSETFROM:+0100
TZOFFSETTO:+0200
TZNAME:CEST
DTSTART:20270328T010000
END:DAYLIGHT
BEGIN:STANDARD
TZOFFSETFROM:+0200
TZOFFSETTO:+0100
TZNAME:CET
DTSTART:20271031T010000
END:STANDARD
END:VTIMEZONE
BEGIN:VEVENT
DTSTART;TZID=Europe/Berlin:20260505T180000
DTEND;TZID=Europe/Berlin:20260505T190000
DTSTAMP:20260425T160310
CREATED:20260331T173121Z
LAST-MODIFIED:20260419T190608Z
UID:10000096-1778004000-1778007600@yoga.myboxberlin.de
SUMMARY:Yoga Präventionskurs-Mo
DESCRIPTION:
URL:https://yoga.myboxberlin.de/event/yoga-praeventionskurs-mo/2026-05-05/
LOCATION:UfaFabrik\, Viktoriastr. 10-18\, Berlin\, Berlin\, 12105\, Germany
CATEGORIES:Kurs
END:VEVENT
BEGIN:VEVENT
DTSTART;TZID=Europe/Berlin:20260512T180000
DTEND;TZID=Europe/Berlin:20260512T190000
DTSTAMP:20260425T160310
CREATED:20260331T173121Z
LAST-MODIFIED:20260419T190608Z
UID:10000097-1778608800-1778612400@yoga.myboxberlin.de
SUMMARY:Yoga Präventionskurs-Mo
DESCRIPTION:
URL:https://yoga.myboxberlin.de/event/yoga-praeventionskurs-mo/2026-05-12/
LOCATION:UfaFabrik\, Viktoriastr. 10-18\, Berlin\, Berlin\, 12105\, Germany
CATEGORIES:Kurs
END:VEVENT
BEGIN:VEVENT
DTSTART;TZID=Europe/Berlin:20260519T180000
DTEND;TZID=Europe/Berlin:20260519T190000
DTSTAMP:20260425T160310
CREATED:20260331T173121Z
LAST-MODIFIED:20260419T190608Z
UID:10000098-1779213600-1779217200@yoga.myboxberlin.de
SUMMARY:Yoga Präventionskurs-Mo
DESCRIPTION:
URL:https://yoga.myboxberlin.de/event/yoga-praeventionskurs-mo/2026-05-19/
LOCATION:UfaFabrik\, Viktoriastr. 10-18\, Berlin\, Berlin\, 12105\, Germany
CATEGORIES:Kurs
END:VEVENT
BEGIN:VEVENT
DTSTART;TZID=Europe/Berlin:20260602T180000
DTEND;TZID=Europe/Berlin:20260602T190000
DTSTAMP:20260425T160310
CREATED:20260331T173121Z
LAST-MODIFIED:20260419T190608Z
UID:10000100-1780423200-1780426800@yoga.myboxberlin.de
SUMMARY:Yoga Präventionskurs-Mo
DESCRIPTION:
URL:https://yoga.myboxberlin.de/event/yoga-praeventionskurs-mo/2026-06-02/
LOCATION:UfaFabrik\, Viktoriastr. 10-18\, Berlin\, Berlin\, 12105\, Germany
CATEGORIES:Kurs
END:VEVENT
BEGIN:VEVENT
DTSTART;TZID=Europe/Berlin:20260609T180000
DTEND;TZID=Europe/Berlin:20260609T190000
DTSTAMP:20260425T160310
CREATED:20260331T173121Z
LAST-MODIFIED:20260419T190608Z
UID:10000101-1781028000-1781031600@yoga.myboxberlin.de
SUMMARY:Yoga Präventionskurs-Mo
DESCRIPTION:
URL:https://yoga.myboxberlin.de/event/yoga-praeventionskurs-mo/2026-06-09/
LOCATION:UfaFabrik\, Viktoriastr. 10-18\, Berlin\, Berlin\, 12105\, Germany
CATEGORIES:Kurs
END:VEVENT
END:VCALENDAR